{"text_format":"3","workbook":"xlsx","n_sheets":1,"sheets":["Sheet1"],"not_rendered":{"external_links":1,"defined_names":2},"read":"whole","date_system":"1900"}

{"sheet":"Sheet1","index":0,"n_rows":17,"n_cols":12,"rows_kept":17,"merged":[[1,0,1,11]]}
["附件"]
["贵安新区2023年面向贵阳贵安公开考调公务员和机关人员面试成绩、总成绩及进入体检环节人员名单"]
["序号","姓名","准考证号","单位","报考岗位代码","笔试成绩","笔试成绩40%","面试成绩","面试成绩60%","笔试、面试成绩","综合排名","是否进入体检"]
[1,"张  伟","10101500130","0001贵安新区市场监督管理局高峰分局","01四级主任科员及以下",{"$f":"VLOOKUP(C4:C17,[1]Sheet1!$B$4:$G$62,6,FALSE)","v":"73.5"},{"$f":"F4*0.4","v":{"v":29.4,"d":"29.40"}},{"v":81.6,"d":"81.60"},{"$f":"H4*0.6","v":48.96},{"$f":"G4+I4","v":78.36},1,"是"]
[2,"张长宇","10101500107","0003贵安新区组织人事部","01一级主任科员及以下",{"$f":"VLOOKUP(C5:C18,[1]Sheet1!$B$4:$G$62,6,FALSE)","v":"70.0"},{"$f":"F5*0.4","v":{"v":28,"d":"28.00"}},{"v":86,"d":"86.00"},{"$f":"H5*0.6","v":{"v":51.6,"d":"51.60"}},{"$f":"G5+I5","v":{"v":79.6,"d":"79.60"}},1,"是"]
[3,"文庭庭","10101500129","0005贵安新区城乡建设局","01一级主任科员及以下",{"$f":"VLOOKUP(C6:C19,[1]Sheet1!$B$4:$G$62,6,FALSE)","v":"77.0"},{"$f":"F6*0.4","v":{"v":30.8,"d":"30.80"}},{"v":81.2,"d":"81.20"},{"$f":"H6*0.6","v":48.72},{"$f":"G6+I6","v":79.52},1,"是"]
[4,"毛福萍","10101500123","0005贵安新区城乡建设局","01一级主任科员及以下",{"$f":"VLOOKUP(C7:C20,[1]Sheet1!$B$4:$G$62,6,FALSE)","v":"73.5"},{"$f":"F7*0.4","v":{"v":29.4,"d":"29.40"}},{"v":83,"d":"83.00"},{"$f":"H7*0.6","v":{"v":49.8,"d":"49.80"}},{"$f":"G7+I7","v":{"v":79.2,"d":"79.20"}},2,"是"]
[5,"江俊维","10101500109","0005贵安新区城乡建设局","01一级主任科员及以下",{"$f":"VLOOKUP(C8:C21,[1]Sheet1!$B$4:$G$62,6,FALSE)","v":"73.0"},{"$f":"F8*0.4","v":{"v":29.2,"d":"29.20"}},{"v":80.6,"d":"80.60"},{"$f":"H8*0.6","v":48.36},{"$f":"G8+I8","v":77.56},3]
[6,"王  珊","10101500116","0006贵安新区大数据和科技创新局","02一级主任科员及以下",{"$f":"VLOOKUP(C9:C23,[1]Sheet1!$B$4:$G$62,6,FALSE)","v":"69.5"},{"$f":"F9*0.4","v":{"v":27.8,"d":"27.80"}},{"v":82.4,"d":"82.40"},{"$f":"H9*0.6","v":49.44},{"$f":"G9+I9","v":77.24},1,"是"]
[7,"朱丽娟","10101500212","0006贵安新区大数据和科技创新局","02一级主任科员及以下",{"$f":"VLOOKUP(C10:C22,[1]Sheet1!$B$4:$G$62,6,FALSE)","v":"71.0"},{"$f":"F10*0.4","v":{"v":28.4,"d":"28.40"}},{"v":78.4,"d":"78.40"},{"$f":"H10*0.6","v":47.04},{"$f":"G10+I10","v":75.44},2,"是"]
[8,"罗  敏","10101500207","0007贵安新区社会事业管理局","01一级主任科员及以下",{"$f":"VLOOKUP(C11:C24,[1]Sheet1!$B$4:$G$62,6,FALSE)","v":"74.0"},{"$f":"F11*0.4","v":{"v":29.6,"d":"29.60"}},{"v":82.8,"d":"82.80"},{"$f":"H11*0.6","v":49.68},{"$f":"G11+I11","v":79.28},1,"是"]
[9,"谢  奔","10101500110","0007贵安新区社会事业管理局","01一级主任科员及以下",{"$f":"VLOOKUP(C12:C25,[1]Sheet1!$B$4:$G$62,6,FALSE)","v":"71.0"},{"$f":"F12*0.4","v":{"v":28.4,"d":"28.40"}},{"v":81.6,"d":"81.60"},{"$f":"H12*0.6","v":48.96},{"$f":"G12+I12","v":77.36},2,"是"]
[10,"戢  滢","10101500226","0007贵安新区社会事业管理局","02一级主任科员及以下",{"$f":"VLOOKUP(C13:C27,[1]Sheet1!$B$4:$G$62,6,FALSE)","v":"71.0"},{"$f":"F13*0.4","v":{"v":28.4,"d":"28.40"}},{"v":81.4,"d":"81.40"},{"$f":"H13*0.6","v":48.84},{"$f":"G13+I13","v":77.24},1,"是"]
[11,"李杰宁","10101500127","0007贵安新区社会事业管理局","02一级主任科员及以下",{"$f":"VLOOKUP(C14:C26,[1]Sheet1!$B$4:$G$62,6,FALSE)","v":"74.5"},{"$f":"F14*0.4","v":{"v":29.8,"d":"29.80"}},"缺考","缺考",{"$f":"G14","v":{"v":29.8,"d":"29.80"}},2]
[12,"黄金霞","10101500208","0009贵安新区统筹城乡发展局","01一级主任科员及以下",{"$f":"VLOOKUP(C15:C28,[1]Sheet1!$B$4:$G$62,6,FALSE)","v":"73.0"},{"$f":"F15*0.4","v":{"v":29.2,"d":"29.20"}},{"v":80.8,"d":"80.80"},{"$f":"H15*0.6","v":48.48},{"$f":"G15+I15","v":77.68},1,"是"]
[13,"李  璞","10101500202","0009贵安新区统筹城乡发展局","02一级主任科员及以下",{"$f":"VLOOKUP(C16:C29,[1]Sheet1!$B$4:$G$62,6,FALSE)","v":"77.0"},{"$f":"F16*0.4","v":{"v":30.8,"d":"30.80"}},{"v":84,"d":"84.00"},{"$f":"H16*0.6","v":{"v":50.4,"d":"50.40"}},{"$f":"G16+I16","v":{"v":81.2,"d":"81.20"}},1,"是"]
[14,"谢晓东","10101500122","0009贵安新区统筹城乡发展局","02一级主任科员及以下",{"$f":"VLOOKUP(C17:C30,[1]Sheet1!$B$4:$G$62,6,FALSE)","v":"73.5"},{"$f":"F17*0.4","v":{"v":29.4,"d":"29.40"}},{"v":80.6,"d":"80.60"},{"$f":"H17*0.6","v":48.36},{"$f":"G17+I17","v":77.76},2,"是"]